BEGIN:VCALENDAR
PRODID:-//eluceo/ical//2.0/EN
VERSION:2.0
CALSCALE:GREGORIAN
BEGIN:VEVENT
UID:0266f9aba967282c5f75874113d3b5fb
DTSTAMP:20260421T170404Z
SUMMARY:Israel Bond Reception
DESCRIPTION:Jewish Federation of Central Massachusetts\nCalendar\nhttps://j
 ewishcentralmass.org/calendar/Israel Bond Reception\n\nHonoring Alan & Nin
 a Stoll
DTSTART;TZID=America/New_York:20140602T180000
DTEND;TZID=America/New_York:20140602T200000
END:VEVENT
END:VCALENDAR
